

BEGIN:VCALENDAR
VERSION:2.0
PRODID:-//ASA Basket - ECPv6.6.4.2//NONSGML v1.0//EN
CALSCALE:GREGORIAN
METHOD:PUBLISH
X-WR-CALNAME:ASA Basket
X-ORIGINAL-URL:https://www.aulnoye-basket.fr
X-WR-CALDESC:évènements pour ASA Basket
REFRESH-INTERVAL;VALUE=DURATION:PT1H
X-Robots-Tag:noindex
X-PUBLISHED-TTL:PT1H
BEGIN:VTIMEZONE
TZID:Europe/Paris
BEGIN:DAYLIGHT
TZOFFSETFROM:+0100
TZOFFSETTO:+0200
TZNAME:CEST
DTSTART:20250330T010000
END:DAYLIGHT
BEGIN:STANDARD
TZOFFSETFROM:+0200
TZOFFSETTO:+0100
TZNAME:CET
DTSTART:20251026T010000
END:STANDARD
END:VTIMEZONE
BEGIN:VEVENT
DTSTART;TZID=Europe/Paris:20250125T200000
DTEND;TZID=Europe/Paris:20250125T213000
DTSTAMP:20260425T183732
CREATED:20250113T095924Z
LAST-MODIFIED:20250203T091052Z
UID:8427-1737835200-1737840600@www.aulnoye-basket.fr
SUMMARY:LF2 : AULNOYE - SAINT AMAND
DESCRIPTION:
URL:https://www.aulnoye-basket.fr/match/lf2-aulnoye-saint-amand/
LOCATION:Salle Nelson Mandela
CATEGORIES:match
ATTACH;FMTTYPE=image/png:https://www.aulnoye-basket.fr/wp-content/uploads/2025/01/affiche-match-saint-amand.png
END:VEVENT
END:VCALENDAR