

BEGIN:VCALENDAR
VERSION:2.0
PRODID:-//ASA Basket - ECPv6.6.4.2//NONSGML v1.0//EN
CALSCALE:GREGORIAN
METHOD:PUBLISH
X-ORIGINAL-URL:https://www.aulnoye-basket.fr
X-WR-CALDESC:évènements pour ASA Basket
REFRESH-INTERVAL;VALUE=DURATION:PT1H
X-Robots-Tag:noindex
X-PUBLISHED-TTL:PT1H
BEGIN:VTIMEZONE
TZID:Europe/Paris
BEGIN:DAYLIGHT
TZOFFSETFROM:+0100
TZOFFSETTO:+0200
TZNAME:CEST
DTSTART:20240331T010000
END:DAYLIGHT
BEGIN:STANDARD
TZOFFSETFROM:+0200
TZOFFSETTO:+0100
TZNAME:CET
DTSTART:20241027T010000
END:STANDARD
END:VTIMEZONE
BEGIN:VEVENT
DTSTART;TZID=Europe/Paris:20241012T200000
DTEND;TZID=Europe/Paris:20241012T213000
DTSTAMP:20260426T000410
CREATED:20241010T155905Z
LAST-MODIFIED:20241021T101307Z
UID:8056-1728763200-1728768600@www.aulnoye-basket.fr
SUMMARY:LF2 : SAINT AMAND - AULNOYE
DESCRIPTION:
URL:https://www.aulnoye-basket.fr/match/lf2-saint-amand-aulnoye/
CATEGORIES:match
ATTACH;FMTTYPE=image/jpeg:https://www.aulnoye-basket.fr/wp-content/uploads/2024/10/462188333_1147561087376365_4248007724104189877_n.jpg
END:VEVENT
END:VCALENDAR