

BEGIN:VCALENDAR
VERSION:2.0
PRODID:-//ASA Basket - ECPv6.6.4.2//NONSGML v1.0//EN
CALSCALE:GREGORIAN
METHOD:PUBLISH
X-ORIGINAL-URL:https://www.aulnoye-basket.fr
X-WR-CALDESC:évènements pour ASA Basket
REFRESH-INTERVAL;VALUE=DURATION:PT1H
X-Robots-Tag:noindex
X-PUBLISHED-TTL:PT1H
BEGIN:VTIMEZONE
TZID:Europe/Paris
BEGIN:DAYLIGHT
TZOFFSETFROM:+0100
TZOFFSETTO:+0200
TZNAME:CEST
DTSTART:20240331T010000
END:DAYLIGHT
BEGIN:STANDARD
TZOFFSETFROM:+0200
TZOFFSETTO:+0100
TZNAME:CET
DTSTART:20241027T010000
END:STANDARD
END:VTIMEZONE
BEGIN:VEVENT
DTSTART;TZID=Europe/Paris:20241005T200000
DTEND;TZID=Europe/Paris:20241005T220000
DTSTAMP:20260426T000338
CREATED:20240930T084609Z
LAST-MODIFIED:20241010T155546Z
UID:8026-1728158400-1728165600@www.aulnoye-basket.fr
SUMMARY:LF2 : AULNOYE - FEYTIAT
DESCRIPTION:Match de Championnat LF2 : Les Félines d’Aulnoye vs Feytiat Basket 87 \nVenez vivre le premier match de la saison à domicile des Félines d’Aulnoye dans une ambiance électrique à la Salle Mandela ! Après une préparation intense\, les Félines sont prêtes à en découdre pour lancer cette nouvelle saison de LF2. Ne manquez pas ce grand moment de basket ! \nDate : Samedi 5 octobre 2024\nHeure : 20h00\nLieu : Salle Mandela\, Aulnoye-Aymeries \nSoutenez votre équipe et vibrez avec nous pour cette première soirée de championnat ! \nBILLETRIE : https://my.weezevent.com/journee-1-feytiat-basket-87 \nALLEZ LES FÉLINES !
URL:https://www.aulnoye-basket.fr/match/lf2-aulnoye-feytiat/
LOCATION:Salle Nelson Mandela
CATEGORIES:match
ATTACH;FMTTYPE=image/png:https://www.aulnoye-basket.fr/wp-content/uploads/2024/09/ANNONCE-RENTREE-FEYTIAT.png
END:VEVENT
END:VCALENDAR