

BEGIN:VCALENDAR
VERSION:2.0
PRODID:-//ASA Basket - ECPv6.6.4.2//NONSGML v1.0//EN
CALSCALE:GREGORIAN
METHOD:PUBLISH
X-WR-CALNAME:ASA Basket
X-ORIGINAL-URL:https://www.aulnoye-basket.fr
X-WR-CALDESC:évènements pour ASA Basket
REFRESH-INTERVAL;VALUE=DURATION:PT1H
X-Robots-Tag:noindex
X-PUBLISHED-TTL:PT1H
BEGIN:VTIMEZONE
TZID:Europe/Paris
BEGIN:DAYLIGHT
TZOFFSETFROM:+0100
TZOFFSETTO:+0200
TZNAME:CEST
DTSTART:20260329T010000
END:DAYLIGHT
BEGIN:STANDARD
TZOFFSETFROM:+0200
TZOFFSETTO:+0100
TZNAME:CET
DTSTART:20261025T010000
END:STANDARD
END:VTIMEZONE
BEGIN:VEVENT
DTSTART;TZID=Europe/Paris:20260207T200000
DTEND;TZID=Europe/Paris:20260207T220000
DTSTAMP:20260424T184605
CREATED:20260202T092108Z
LAST-MODIFIED:20260209T092739Z
UID:9056-1770494400-1770501600@www.aulnoye-basket.fr
SUMMARY:LF2 : AS AULNOYE - NICE
DESCRIPTION:
URL:https://www.aulnoye-basket.fr/match/lf2-as-aulnoye-nice-2/
LOCATION:Salle Nelson Mandela
CATEGORIES:match
ATTACH;FMTTYPE=image/png:https://www.aulnoye-basket.fr/wp-content/uploads/2026/02/AFFICHE-nice.png
END:VEVENT
BEGIN:VEVENT
DTSTART;TZID=Europe/Paris:20260214T200000
DTEND;TZID=Europe/Paris:20260214T213000
DTSTAMP:20260424T184605
CREATED:20260210T135539Z
LAST-MODIFIED:20260223T082209Z
UID:9073-1771099200-1771104600@www.aulnoye-basket.fr
SUMMARY:LF2 : REIMS - AS AULNOYE
DESCRIPTION:
URL:https://www.aulnoye-basket.fr/match/lf2-reims-as-aulnoye/
CATEGORIES:match
END:VEVENT
BEGIN:VEVENT
DTSTART;TZID=Europe/Paris:20260221T200000
DTEND;TZID=Europe/Paris:20260221T213000
DTSTAMP:20260424T184605
CREATED:20260210T141002Z
LAST-MODIFIED:20260223T082222Z
UID:9076-1771704000-1771709400@www.aulnoye-basket.fr
SUMMARY:LF2 : AS AULNOYE - LE HAVRE
DESCRIPTION:
URL:https://www.aulnoye-basket.fr/match/lf2-as-aulnoye-le-havre/
LOCATION:Salle Nelson Mandela
CATEGORIES:match
ATTACH;FMTTYPE=image/png:https://www.aulnoye-basket.fr/wp-content/uploads/2026/02/AFFICHE-havre.png
END:VEVENT
BEGIN:VEVENT
DTSTART;TZID=Europe/Paris:20260228T203000
DTEND;TZID=Europe/Paris:20260228T213000
DTSTAMP:20260424T184605
CREATED:20260223T082315Z
LAST-MODIFIED:20260302T091416Z
UID:9083-1772310600-1772314200@www.aulnoye-basket.fr
SUMMARY:LF2 : MONTBRISON - AS AULNOYE
DESCRIPTION:
URL:https://www.aulnoye-basket.fr/match/lf2-montbrison-as-aulnoye/
CATEGORIES:match
END:VEVENT
END:VCALENDAR