

BEGIN:VCALENDAR
VERSION:2.0
PRODID:-//ASA Basket - ECPv6.6.4.2//NONSGML v1.0//EN
CALSCALE:GREGORIAN
METHOD:PUBLISH
X-ORIGINAL-URL:https://www.aulnoye-basket.fr
X-WR-CALDESC:évènements pour ASA Basket
REFRESH-INTERVAL;VALUE=DURATION:PT1H
X-Robots-Tag:noindex
X-PUBLISHED-TTL:PT1H
BEGIN:VTIMEZONE
TZID:Europe/Paris
BEGIN:DAYLIGHT
TZOFFSETFROM:+0100
TZOFFSETTO:+0200
TZNAME:CEST
DTSTART:20250330T010000
END:DAYLIGHT
BEGIN:STANDARD
TZOFFSETFROM:+0200
TZOFFSETTO:+0100
TZNAME:CET
DTSTART:20251026T010000
END:STANDARD
END:VTIMEZONE
BEGIN:VEVENT
DTSTART;TZID=Europe/Paris:20251004T200000
DTEND;TZID=Europe/Paris:20251004T213000
DTSTAMP:20260425T013003
CREATED:20250929T080005Z
LAST-MODIFIED:20251007T083048Z
UID:8592-1759608000-1759613400@www.aulnoye-basket.fr
SUMMARY:LF2 : FEYTIAT - AS AULNOYE
DESCRIPTION:
URL:https://www.aulnoye-basket.fr/match/lf2-feytiat-as-aulnoye-2/
CATEGORIES:match
END:VEVENT
BEGIN:VEVENT
DTSTART;TZID=Europe/Paris:20251011T200000
DTEND;TZID=Europe/Paris:20251011T213000
DTSTAMP:20260425T013003
CREATED:20251007T083018Z
LAST-MODIFIED:20251013T094610Z
UID:8596-1760212800-1760218200@www.aulnoye-basket.fr
SUMMARY:LF2 : STRASBOURG - AS AULNOYE
DESCRIPTION:
URL:https://www.aulnoye-basket.fr/match/lf2-strasbourg-as-aulnoye/
CATEGORIES:match
ATTACH;FMTTYPE=image/jpeg:https://www.aulnoye-basket.fr/wp-content/uploads/2025/10/560779618_18402106150191087_4283570294127345612_n.jpg
END:VEVENT
BEGIN:VEVENT
DTSTART;TZID=Europe/Paris:20251018T200000
DTEND;TZID=Europe/Paris:20251018T220000
DTSTAMP:20260425T013003
CREATED:20251013T094721Z
LAST-MODIFIED:20251024T074116Z
UID:8602-1760817600-1760824800@www.aulnoye-basket.fr
SUMMARY:LF2 : AS AULNOYE - BCTM
DESCRIPTION:
URL:https://www.aulnoye-basket.fr/match/lf2-as-aulnoye-bctm/
LOCATION:Salle Nelson Mandela
CATEGORIES:match
ATTACH;FMTTYPE=image/png:https://www.aulnoye-basket.fr/wp-content/uploads/2025/10/AFFICHE-bctm.png
END:VEVENT
BEGIN:VEVENT
DTSTART;TZID=Europe/Paris:20251025T200000
DTEND;TZID=Europe/Paris:20251025T213000
DTSTAMP:20260425T013003
CREATED:20251024T074255Z
LAST-MODIFIED:20251029T092923Z
UID:8781-1761422400-1761427800@www.aulnoye-basket.fr
SUMMARY:LF2 : NICE - AS AULNOYE
DESCRIPTION:
URL:https://www.aulnoye-basket.fr/match/lf2-nice-as-aulnoye-2/
CATEGORIES:match
END:VEVENT
END:VCALENDAR