

BEGIN:VCALENDAR
VERSION:2.0
PRODID:-//ASA Basket - ECPv6.6.4.2//NONSGML v1.0//EN
CALSCALE:GREGORIAN
METHOD:PUBLISH
X-WR-CALNAME:ASA Basket
X-ORIGINAL-URL:https://www.aulnoye-basket.fr
X-WR-CALDESC:évènements pour ASA Basket
REFRESH-INTERVAL;VALUE=DURATION:PT1H
X-Robots-Tag:noindex
X-PUBLISHED-TTL:PT1H
BEGIN:VTIMEZONE
TZID:Europe/Paris
BEGIN:DAYLIGHT
TZOFFSETFROM:+0100
TZOFFSETTO:+0200
TZNAME:CEST
DTSTART:20250330T010000
END:DAYLIGHT
BEGIN:STANDARD
TZOFFSETFROM:+0200
TZOFFSETTO:+0100
TZNAME:CET
DTSTART:20251026T010000
END:STANDARD
END:VTIMEZONE
BEGIN:VEVENT
DTSTART;TZID=Europe/Paris:20250301T200000
DTEND;TZID=Europe/Paris:20250301T220000
DTSTAMP:20260425T133204
CREATED:20250224T090159Z
LAST-MODIFIED:20250303T081722Z
UID:8465-1740859200-1740866400@www.aulnoye-basket.fr
SUMMARY:LF2 : AS AULNOYE - MONDEVILLE
DESCRIPTION:
URL:https://www.aulnoye-basket.fr/match/lf2-as-aulnoye-mondeville/
LOCATION:Salle Nelson Mandela
CATEGORIES:match
ATTACH;FMTTYPE=image/png:https://www.aulnoye-basket.fr/wp-content/uploads/2025/02/AFFICHE-MONDEVILLE.png
END:VEVENT
BEGIN:VEVENT
DTSTART;TZID=Europe/Paris:20250309T160000
DTEND;TZID=Europe/Paris:20250309T180000
DTSTAMP:20260425T133204
CREATED:20250303T082330Z
LAST-MODIFIED:20250324T084659Z
UID:8471-1741536000-1741543200@www.aulnoye-basket.fr
SUMMARY:LF2 : LA TRONCHE-MEYLAN VS AS AULNOYE
DESCRIPTION:
URL:https://www.aulnoye-basket.fr/match/lf2-la-tronche-meylan-2/
CATEGORIES:match
ATTACH;FMTTYPE=image/png:https://www.aulnoye-basket.fr/wp-content/uploads/2025/03/AFFICHE-BCTM.png
END:VEVENT
BEGIN:VEVENT
DTSTART;TZID=Europe/Paris:20250322T160000
DTEND;TZID=Europe/Paris:20250322T173000
DTSTAMP:20260425T133204
CREATED:20250324T084559Z
LAST-MODIFIED:20250324T084559Z
UID:8478-1742659200-1742664600@www.aulnoye-basket.fr
SUMMARY:LF2 : PÔLE FRANCE VS AS AULNOYE
DESCRIPTION:
URL:https://www.aulnoye-basket.fr/match/lf2-pole-france-vs-as-aulnoye/
CATEGORIES:match
END:VEVENT
BEGIN:VEVENT
DTSTART;TZID=Europe/Paris:20250326T200000
DTEND;TZID=Europe/Paris:20250326T213000
DTSTAMP:20260425T133204
CREATED:20250324T085229Z
LAST-MODIFIED:20250721T143131Z
UID:8482-1743019200-1743024600@www.aulnoye-basket.fr
SUMMARY:LF2 : AS AULNOYE - VOIRON
DESCRIPTION:
URL:https://www.aulnoye-basket.fr/match/lf2-as-aulnoye-voiron-2/
LOCATION:Salle Nelson Mandela
CATEGORIES:match
ATTACH;FMTTYPE=image/png:https://www.aulnoye-basket.fr/wp-content/uploads/2025/03/AFFICHE-voiron.png
END:VEVENT
BEGIN:VEVENT
DTSTART;TZID=Europe/Paris:20250329T200000
DTEND;TZID=Europe/Paris:20250329T213000
DTSTAMP:20260425T133204
CREATED:20250324T085952Z
LAST-MODIFIED:20250721T143103Z
UID:8486-1743278400-1743283800@www.aulnoye-basket.fr
SUMMARY:LF2 : AS AULNOYE - TOULOUSE
DESCRIPTION:
URL:https://www.aulnoye-basket.fr/match/lf2-as-aulnoye-toulouse/
LOCATION:Salle Nelson Mandela
CATEGORIES:match
ATTACH;FMTTYPE=image/png:https://www.aulnoye-basket.fr/wp-content/uploads/2025/03/AFFICHE-toulouse.png
END:VEVENT
END:VCALENDAR