

BEGIN:VCALENDAR
VERSION:2.0
PRODID:-//ASA Basket - ECPv6.6.4.2//NONSGML v1.0//EN
CALSCALE:GREGORIAN
METHOD:PUBLISH
X-ORIGINAL-URL:https://www.aulnoye-basket.fr
X-WR-CALDESC:évènements pour ASA Basket
REFRESH-INTERVAL;VALUE=DURATION:PT1H
X-Robots-Tag:noindex
X-PUBLISHED-TTL:PT1H
BEGIN:VTIMEZONE
TZID:Europe/Paris
BEGIN:DAYLIGHT
TZOFFSETFROM:+0100
TZOFFSETTO:+0200
TZNAME:CEST
DTSTART:20240331T010000
END:DAYLIGHT
BEGIN:STANDARD
TZOFFSETFROM:+0200
TZOFFSETTO:+0100
TZNAME:CET
DTSTART:20241027T010000
END:STANDARD
END:VTIMEZONE
BEGIN:VEVENT
DTSTART;TZID=Europe/Paris:20241207T200000
DTEND;TZID=Europe/Paris:20241207T213000
DTSTAMP:20260425T183727
CREATED:20241204T105435Z
LAST-MODIFIED:20241209T084204Z
UID:8390-1733601600-1733607000@www.aulnoye-basket.fr
SUMMARY:LF2 : VOIRON - AULNOYE
DESCRIPTION:
URL:https://www.aulnoye-basket.fr/match/lf2-voiron-aulnoye/
CATEGORIES:match
ATTACH;FMTTYPE=image/png:https://www.aulnoye-basket.fr/wp-content/uploads/2024/12/J-1.png
END:VEVENT
BEGIN:VEVENT
DTSTART;TZID=Europe/Paris:20241211T200000
DTEND;TZID=Europe/Paris:20241211T213000
DTSTAMP:20260425T183727
CREATED:20241209T084325Z
LAST-MODIFIED:20241217T082247Z
UID:8396-1733947200-1733952600@www.aulnoye-basket.fr
SUMMARY:LF2 : AULNOYE - PÔLE FRANCE
DESCRIPTION:
URL:https://www.aulnoye-basket.fr/match/lf2-aulnoye-pole-france/
LOCATION:Salle Nelson Mandela
CATEGORIES:match
ATTACH;FMTTYPE=image/png:https://www.aulnoye-basket.fr/wp-content/uploads/2024/12/affiche-match-POLE-FRANCE.png
END:VEVENT
BEGIN:VEVENT
DTSTART;TZID=Europe/Paris:20241221T200000
DTEND;TZID=Europe/Paris:20241221T220000
DTSTAMP:20260425T183727
CREATED:20241217T082432Z
LAST-MODIFIED:20250109T160149Z
UID:8401-1734811200-1734818400@www.aulnoye-basket.fr
SUMMARY:LF2 : TOULOUSE - AULNOYE
DESCRIPTION:
URL:https://www.aulnoye-basket.fr/match/lf2-toulouse-aulnoye-2/
CATEGORIES:match
ATTACH;FMTTYPE=image/png:https://www.aulnoye-basket.fr/wp-content/uploads/2024/12/toulouse-lundi-good.png
END:VEVENT
END:VCALENDAR