

BEGIN:VCALENDAR
VERSION:2.0
PRODID:-//ASA Basket - ECPv6.6.4.2//NONSGML v1.0//EN
CALSCALE:GREGORIAN
METHOD:PUBLISH
X-WR-CALNAME:ASA Basket
X-ORIGINAL-URL:https://www.aulnoye-basket.fr
X-WR-CALDESC:évènements pour ASA Basket
REFRESH-INTERVAL;VALUE=DURATION:PT1H
X-Robots-Tag:noindex
X-PUBLISHED-TTL:PT1H
BEGIN:VTIMEZONE
TZID:Europe/Paris
BEGIN:DAYLIGHT
TZOFFSETFROM:+0100
TZOFFSETTO:+0200
TZNAME:CEST
DTSTART:20240331T010000
END:DAYLIGHT
BEGIN:STANDARD
TZOFFSETFROM:+0200
TZOFFSETTO:+0100
TZNAME:CET
DTSTART:20241027T010000
END:STANDARD
END:VTIMEZONE
BEGIN:VEVENT
DTSTART;TZID=Europe/Paris:20241102T200000
DTEND;TZID=Europe/Paris:20241102T220000
DTSTAMP:20260425T202550
CREATED:20241021T101412Z
LAST-MODIFIED:20241105T104747Z
UID:8122-1730577600-1730584800@www.aulnoye-basket.fr
SUMMARY:LF2 : NICE - AULNOYE
DESCRIPTION:
URL:https://www.aulnoye-basket.fr/match/lf2-nice-aulnoye/
CATEGORIES:match
END:VEVENT
BEGIN:VEVENT
DTSTART;TZID=Europe/Paris:20241116T200000
DTEND;TZID=Europe/Paris:20241116T213000
DTSTAMP:20260425T202550
CREATED:20241105T105201Z
LAST-MODIFIED:20241120T082702Z
UID:8339-1731787200-1731792600@www.aulnoye-basket.fr
SUMMARY:LF2 : AULNOYE - LE HAVRE
DESCRIPTION:
URL:https://www.aulnoye-basket.fr/match/lf2-aulnoye-le-havre/
LOCATION:Salle Nelson Mandela
CATEGORIES:match
ATTACH;FMTTYPE=image/png:https://www.aulnoye-basket.fr/wp-content/uploads/2024/11/match-le-havre.png
END:VEVENT
BEGIN:VEVENT
DTSTART;TZID=Europe/Paris:20241123T200000
DTEND;TZID=Europe/Paris:20241123T220000
DTSTAMP:20260425T202550
CREATED:20241120T082953Z
LAST-MODIFIED:20241125T084529Z
UID:8349-1732392000-1732399200@www.aulnoye-basket.fr
SUMMARY:LF2 : MONDEVILLE - AULNOYE
DESCRIPTION:
URL:https://www.aulnoye-basket.fr/match/lf2-mondeville-as-aulnoye-2/
CATEGORIES:match
ATTACH;FMTTYPE=image/png:https://www.aulnoye-basket.fr/wp-content/uploads/2024/11/mondeville-good.png
END:VEVENT
BEGIN:VEVENT
DTSTART;TZID=Europe/Paris:20241130T200000
DTEND;TZID=Europe/Paris:20241130T220000
DTSTAMP:20260425T202550
CREATED:20241121T083450Z
LAST-MODIFIED:20241202T084517Z
UID:8359-1732996800-1733004000@www.aulnoye-basket.fr
SUMMARY:LF2 : AULNOYE - LA TRONCHE-MEYLAN
DESCRIPTION:
URL:https://www.aulnoye-basket.fr/match/lf2-aulnoye-la-tronche-meylan-2/
LOCATION:Salle Nelson Mandela
CATEGORIES:match
ATTACH;FMTTYPE=image/png:https://www.aulnoye-basket.fr/wp-content/uploads/2024/11/goooooood.png
END:VEVENT
END:VCALENDAR